BEGIN:VCALENDAR
VERSION:2.0
PRODID:-//ChamberMaster//Event Calendar 2.0//EN
METHOD:PUBLISH
X-PUBLISHED-TTL:P3D
REFRESH-INTERVAL:P3D
CALSCALE:GREGORIAN
BEGIN:VEVENT
DTSTART:20170806T170000Z
DTEND:20170806T210000Z
X-MICROSOFT-CDO-ALLDAYEVENT:FALSE
SUMMARY:5th Annual Paddle Battle
DESCRIPTION:Join us for our 5th Annual Paddle Battle\, The Nonantum Resort's annual Kennebunk River race for kayaks\, canoes\, stand-up paddle boards\, surfboards and any non-motorized vessels. Drawing both competitive and recreational paddlers\, plus a kids' fun race\, the event is an awesome afternoon out on the water. Then enjoy live music by the Kennebunk River Band and family activities on the resort's back lawn. Named a top Summer Fun event by Sports Illustrated Kids' magazine 2015! To register\, click the ticket link below! http://www.nonantumresort.com/event/paddle-battle-2/
X-ALT-DESC;FMTTYPE=text/html:Join us for our 5th Annual Paddle Battle\, The Nonantum Resort&rsquo\;s annual Kennebunk River race for kayaks\, canoes\, stand-up paddle boards\, surfboards and any non-motorized vessels. Drawing both competitive and recreational paddlers\, plus a kids&rsquo\; fun race\, the event is an awesome afternoon out on the water. Then enjoy live music by the Kennebunk River Band and family activities on the resort&rsquo\;s back lawn. Named a top Summer Fun event by Sports Illustrated Kids&rsquo\; magazine 2015! To register\, click the ticket link below! http://www.nonantumresort.com/event/paddle-battle-2/
LOCATION:The Nonantum Resort
UID:e.1923.5878
SEQUENCE:3
DTSTAMP:20260426T035601Z
URL:https://chamber.gokennebunks.com/events/details/5th-annual-paddle-battle-5878
END:VEVENT

END:VCALENDAR
