BEGIN:VCALENDAR
VERSION:2.0
PRODID:-//ChamberMaster//Event Calendar 2.0//EN
METHOD:PUBLISH
X-PUBLISHED-TTL:P3D
REFRESH-INTERVAL:P3D
CALSCALE:GREGORIAN
BEGIN:VEVENT
DTSTART:20180704T220000Z
DTEND:20180705T010000Z
X-MICROSOFT-CDO-ALLDAYEVENT:FALSE
SUMMARY:4th of July Lobster Bake
DESCRIPTION:Dinner\, cocktails and a full concert band on our back lawn. Dinner buffet beginning at 6PM\, entertainment at 7:30 PM and fireworks at 9 PM.
X-ALT-DESC;FMTTYPE=text/html:Dinner\, cocktails and a full concert band on our back lawn. Dinner buffet beginning at 6PM\, entertainment at 7:30 PM and fireworks at 9 PM.
LOCATION:Nonantum Resort
UID:e.1923.9897
SEQUENCE:3
DTSTAMP:20260425T132834Z
URL:https://chamber.gokennebunks.com/events/details/4th-of-july-lobster-bake-9897
END:VEVENT

END:VCALENDAR
