BEGIN:VCALENDAR
VERSION:2.0
PRODID:-//ChamberMaster//Event Calendar 2.0//EN
METHOD:PUBLISH
X-PUBLISHED-TTL:P3D
REFRESH-INTERVAL:P3D
CALSCALE:GREGORIAN
BEGIN:VEVENT
DTSTART:20190810T133000Z
DTEND:20190810T150000Z
X-MICROSOFT-CDO-ALLDAYEVENT:FALSE
SUMMARY:4th Annual Spurling Charity 5k
DESCRIPTION:This will be a flat race\, perfect for people wanting to run or walk their very first 5k\, or great for advanced runners looking to get a PR. All proceeds benefit A Running Passion.\n\nRegister in person at Spurling Fitness\, or at www.spurlingcharity5k.com for just $30 before 8/8!
X-ALT-DESC;FMTTYPE=text/html:<p>This will be a flat race\, perfect for people wanting to run or walk their very first 5k\, or great for advanced runners looking to get a PR. All proceeds benefit A Running Passion.</p>\n\n<p style="margin-left: 0px\; margin-right: 0px\;">Register in person at Spurling Fitness\, or at www.spurlingcharity5k.com for just $30 before 8/8!</p>\n
LOCATION:Spurling Fitness\, 1 Alewive Park Road\, Kennebunk 04043
UID:e.1923.13391
SEQUENCE:3
DTSTAMP:20260424T182402Z
URL:https://chamber.gokennebunks.com/events/details/4th-annual-spurling-charity-5k-13391
END:VEVENT

END:VCALENDAR
