BEGIN:VCALENDAR
VERSION:2.0
PRODID:-//ChamberMaster//Event Calendar 2.0//EN
METHOD:PUBLISH
X-PUBLISHED-TTL:P3D
REFRESH-INTERVAL:P3D
CALSCALE:GREGORIAN
BEGIN:VEVENT
DTSTART:20171204T160000Z
DTEND:20171207T210000Z
X-MICROSOFT-CDO-ALLDAYEVENT:FALSE
SUMMARY:4th Annual Cookie Crawl
DESCRIPTION:Take a sweet stroll down Ocean Avenue to taste a variety of holiday cookies - then vote for your favorite! Tickets $10 per person. Purchase at The Nonantum.
X-ALT-DESC;FMTTYPE=text/html:Take a sweet stroll down Ocean Avenue to taste a variety of holiday cookies - then vote for your favorite! Tickets $10 per person. Purchase at The Nonantum.
LOCATION:The Nonantum Resort
UID:e.1923.6974
SEQUENCE:3
DTSTAMP:20260425T222440Z
URL:https://chamber.gokennebunks.com/events/details/4th-annual-cookie-crawl-6974
END:VEVENT

END:VCALENDAR
