BEGIN:VCALENDAR
VERSION:2.0
PRODID:-//ChamberMaster//Event Calendar 2.0//EN
METHOD:PUBLISH
X-PUBLISHED-TTL:P3D
REFRESH-INTERVAL:P3D
CALSCALE:GREGORIAN
BEGIN:VEVENT
DTSTART:20180317T140000Z
DTEND:20180317T220000Z
X-MICROSOFT-CDO-ALLDAYEVENT:FALSE
SUMMARY:47th Annual Waban Telethon
DESCRIPTION:47th Annual Waban Telethon: Entertainment\, Raffles\, Gifts\, Food and Fun! Activities for the children\, music and dance\, gift baskets and furniture! This is your opportunity to support Waban's essential programs and services for the children of southern Maine. Call 207-324-7955 to make your donation today.
X-ALT-DESC;FMTTYPE=text/html:47th Annual Waban Telethon: Entertainment\, Raffles\, Gifts\, Food and Fun! Activities for the children\, music and dance\, gift baskets and furniture! This is your opportunity to support Waban&#39\;s essential programs and services for the children of southern Maine. Call 207-324-7955 to make your donation today.
LOCATION:St. Ignatius Gym 25 Riverside Ave. Sanford\, Maine
UID:e.1923.7004
SEQUENCE:3
DTSTAMP:20260425T182943Z
URL:https://chamber.gokennebunks.com/events/details/47th-annual-waban-telethon-7004
END:VEVENT

END:VCALENDAR
