BEGIN:VCALENDAR
VERSION:2.0
PRODID:-//ChamberMaster//Event Calendar 2.0//EN
METHOD:PUBLISH
X-PUBLISHED-TTL:P3D
REFRESH-INTERVAL:P3D
CALSCALE:GREGORIAN
BEGIN:VEVENT
DTSTART:20171028T190000Z
DTEND:20171028T210000Z
X-MICROSOFT-CDO-ALLDAYEVENT:FALSE
SUMMARY:30-piece New England Brass Band Performance
DESCRIPTION:Enjoy this internationally acclaimed musical ensemble performing band music in the British tradition. Stephen Bulla\, Musical Director Former Chief Arranger to the President's U.S. Marine Band.
X-ALT-DESC;FMTTYPE=text/html:Enjoy this internationally acclaimed musical ensemble performing band music in the British tradition. Stephen Bulla\, Musical Director Former Chief Arranger to the President&#39\;s U.S. Marine Band.
LOCATION:South Congregational Church\, Temple Street\, Kennebunkport
UID:e.1923.6944
SEQUENCE:3
DTSTAMP:20260424T101704Z
URL:https://chamber.gokennebunks.com/events/details/30-piece-new-england-brass-band-performance-6944
END:VEVENT

END:VCALENDAR
