BEGIN:VCALENDAR
VERSION:2.0
PRODID:-//ChamberMaster//Event Calendar 2.0//EN
METHOD:PUBLISH
X-PUBLISHED-TTL:P3D
REFRESH-INTERVAL:P3D
CALSCALE:GREGORIAN
BEGIN:VEVENT
DTSTART:20240712T130000Z
DTEND:20240714T200000Z
X-MICROSOFT-CDO-ALLDAYEVENT:FALSE
SUMMARY:3-D Legacy Collage Workshop with Berri Kramer at Arundel Farm Gallery
DESCRIPTION:In this Legacy Workshop we will explore vintage and other 3D forms and structures to create treasured stories and keepsakes.  A discussion of scale\, palette\, pattern\, distressing\, composition and finishing will be part of the class.  Discover the transformation of a vintage tin\, wood blocks\, house forms and envelope ornaments.  Students will use their own photos and other personal documents to make each piece memorable.  A $40.00 materials fee will provide all forms\, a packet of ephemera and more to create all class projects.  No experience is necessary for this workshop!  Instead of keeping memories hidden away in boxes you can make them into art pieces to display all year long or to give as gifts to loved ones. \n\n\n\nBerri Kramer spent 25 years designing for Better Homes and Gardens and then founded Heartwood College of Art in the Kennebunks where she taught Color\, Design and Crafts for over 25 years.  We are now honored to have her share her prodigious knowledge of various art mediums in several workshops here at the gallery including Collage\, Encaustic\, Cold Wax and Printmaking.
X-ALT-DESC;FMTTYPE=text/html:In this Legacy Workshop we will explore vintage and other 3D forms and structures to create treasured stories and keepsakes.&nbsp\; A discussion of scale\, palette\, pattern\, distressing\, composition and finishing will be part of the class.&nbsp\; Discover the transformation of a vintage tin\, wood blocks\, house forms and envelope ornaments.&nbsp\; Students will use their own photos and other personal documents to make each piece memorable.&nbsp\; A $40.00 materials fee will provide all forms\, a packet of ephemera and more to create all class projects.&nbsp\; No experience is necessary for this workshop!&nbsp\; Instead of keeping memories hidden away in boxes you can make them into art pieces to display all year long or to give as gifts to loved ones.&nbsp\;<br />\n<br />\nBerri Kramer spent 25 years designing for Better Homes and Gardens and then founded Heartwood College of Art in the Kennebunks where she taught Color\, Design and Crafts for over 25 years.&nbsp\; We are now honored to have her share her prodigious knowledge of various art mediums in several workshops here at the gallery including Collage\, Encaustic\, Cold Wax and Printmaking.&nbsp\;
LOCATION:Arundel Farm Gallery\, 76 Arundel Road\, Arundel\, Maine 04046
UID:e.1923.25262
SEQUENCE:3
DTSTAMP:20260421T140259Z
URL:https://chamber.gokennebunks.com/events/details/3-d-legacy-collage-workshop-with-berri-kramer-at-arundel-farm-gallery-25262
END:VEVENT

END:VCALENDAR
