BEGIN:VCALENDAR
VERSION:2.0
PRODID:-//ChamberMaster//Event Calendar 2.0//EN
METHOD:PUBLISH
X-PUBLISHED-TTL:P3D
REFRESH-INTERVAL:P3D
CALSCALE:GREGORIAN
BEGIN:VEVENT
DTSTART:20190622T000000Z
DTEND:20190622T023000Z
X-MICROSOFT-CDO-ALLDAYEVENT:FALSE
SUMMARY:2nd Annual "Longest Day" with Dean Ford and the Beautiful Ones
DESCRIPTION:Vinegar Hill Music Theatre for the Maine Chapter of the Alzheimer's Association is proud to present PURPLE RAIN ON THE LONGEST DAY FOR ALZHEIMER'S AWARENESS featuring New England's premier PRINCE tribute band THE BEAUTIFUL ONES. Dressed 2 the 9's\, Dean Ford embodies Prince with every fiber of his being\, giving you a show as close as you will ever get to the real thing. Not only does the band cover the "Purple Rain" album in its entirety but included in their set are all the hits from his royal badness' catalogue between the years 1978 and 2015. Very limited seated tickets are available first come first serve\, so plan to bring your dancing shoes as we flashback to 1984 for a unique concert experience for a great cause. $10 of each ticket purchased will be donated to the Alzheimer's Association.
X-ALT-DESC;FMTTYPE=text/html:Vinegar Hill Music Theatre for the Maine Chapter of the Alzheimer&rsquo\;s Association is proud to present PURPLE RAIN ON THE LONGEST DAY FOR ALZHEIMER&rsquo\;S AWARENESS featuring New England&#39\;s premier PRINCE tribute band THE BEAUTIFUL ONES. Dressed 2 the 9&#39\;s\, Dean Ford embodies Prince with every fiber of his being\, giving you a show as close as you will ever get to the real thing. Not only does the band cover the &quot\;Purple Rain&rdquo\; album in its entirety but included in their set are all the hits from his royal badness&#39\; catalogue between the years 1978 and 2015. Very limited seated tickets are available first come first serve\, so plan to bring your dancing shoes as we flashback to 1984 for a unique concert experience for a great cause. $10 of each ticket purchased will be donated to the Alzheimer&#39\;s Association.
LOCATION:Vinegar Hill Music Theatre 53 Old Post Rd Arundel\, ME 04046
UID:e.1923.11537
SEQUENCE:3
DTSTAMP:20260424T210425Z
URL:https://chamber.gokennebunks.com/events/details/2nd-annual-longest-day-with-dean-ford-and-the-beautiful-ones-11537
END:VEVENT

END:VCALENDAR
