BEGIN:VCALENDAR
VERSION:2.0
PRODID:-//ChamberMaster//Event Calendar 2.0//EN
METHOD:PUBLISH
X-PUBLISHED-TTL:P3D
REFRESH-INTERVAL:P3D
CALSCALE:GREGORIAN
BEGIN:VEVENT
DTSTART:20240622T120000Z
DTEND:20240623T210000Z
X-MICROSOFT-CDO-ALLDAYEVENT:FALSE
SUMMARY:2nd Annual KHHT Pickleball Classic
DESCRIPTION:We are excited to host a weekend of all ages and all skill levels Pickleball play June 22 and June 23\, 2024. There will be tournaments for men's doubles\, women's doubles\, and mixed doubles with medals awarded in each group. We are extending early bird pricing! Enter code EarlyBird at checkout to receive $10.00 off your registration.
X-ALT-DESC;FMTTYPE=text/html:We are excited to host a weekend of all ages and all skill levels Pickleball play June 22 and June 23\, 2024. There will be tournaments for men&#39\;s doubles\, women&#39\;s doubles\, and mixed doubles with medals awarded in each group. We are extending early bird pricing! Enter code EarlyBird at checkout to receive $10.00 off your registration.
LOCATION:Rotary Park at Beachwood\, Kennebunkport\, ME
UID:e.1923.25297
SEQUENCE:3
DTSTAMP:20260421T140123Z
URL:https://chamber.gokennebunks.com/events/details/2nd-annual-khht-pickleball-classic-25297
END:VEVENT

END:VCALENDAR
