BEGIN:VCALENDAR
VERSION:2.0
PRODID:-//ChamberMaster//Event Calendar 2.0//EN
METHOD:PUBLISH
X-PUBLISHED-TTL:P3D
REFRESH-INTERVAL:P3D
CALSCALE:GREGORIAN
BEGIN:VEVENT
DTSTART:20230909T130000Z
DTEND:20230909T180000Z
X-MICROSOFT-CDO-ALLDAYEVENT:FALSE
SUMMARY:2nd Annual Fabric & Yarn Sale
DESCRIPTION:Large quantities of fabric and yarn--great for quilting\, knitting\, crocheting\, and other craft projects--will be available for sale. All proceeds from the sale benefit The New School.
X-ALT-DESC;FMTTYPE=text/html:Large quantities of fabric and yarn--great for quilting\, knitting\, crocheting\, and other craft projects--will be available for sale. All proceeds from the sale benefit The New School.
LOCATION:Outta The Box 8 York Street Kennebunk\, ME 04043
UID:e.1923.22476
SEQUENCE:3
DTSTAMP:20260422T033847Z
URL:https://chamber.gokennebunks.com/events/details/2nd-annual-fabric-yarn-sale-22476
END:VEVENT

END:VCALENDAR
