BEGIN:VCALENDAR
VERSION:2.0
PRODID:-//ChamberMaster//Event Calendar 2.0//EN
METHOD:PUBLISH
X-PUBLISHED-TTL:P3D
REFRESH-INTERVAL:P3D
CALSCALE:GREGORIAN
BEGIN:VEVENT
DTSTART:20260119T150000Z
DTEND:20260119T170000Z
X-MICROSOFT-CDO-ALLDAYEVENT:FALSE
SUMMARY:24th Annual MLK Celebration
DESCRIPTION:Living Your Purpose\n\nDr. Lowell "Chris" Matthews will give the keynote speech\, Living Your Purpose\, at the Martin Luther King Day celebration Monday\, Jan. 19\, 10 a.m. at First Parish UU Church\, Kennebunk. Kevin Preval to open with piano jazz and reception to follow. Reserve seats at uukennebunk.org/MLK2026 Admission at the door if space is available.
X-ALT-DESC;FMTTYPE=text/html:<p>Living Your Purpose</p>\n\n<p>Dr. Lowell &ldquo\;Chris&rdquo\; Matthews will give the keynote speech\, Living Your Purpose\, at the Martin Luther King Day celebration Monday\, Jan. 19\, 10 a.m. at First Parish UU Church\, Kennebunk. Kevin Preval to open with piano jazz and reception to follow. Reserve seats at&nbsp\;<a href="http://uukennebunk.org/MLK2026" style="color: rgb(17\, 85\, 204)\;" target="_blank"><span style="color:rgb(16\, 60\, 192)">uukennebunk.org/MLK2026</span></a>&nbsp\;Admission at the door if space is available.</p>\n
LOCATION:First Parish Unitarian Universalist Church 114 Main Street\, Kennebunk
UID:e.1923.38350
SEQUENCE:3
DTSTAMP:20260421T180321Z
URL:https://chamber.gokennebunks.com/events/details/24th-annual-mlk-celebration-38350
END:VEVENT

END:VCALENDAR
