BEGIN:VCALENDAR
VERSION:2.0
PRODID:-//ChamberMaster//Event Calendar 2.0//EN
METHOD:PUBLISH
X-PUBLISHED-TTL:P3D
REFRESH-INTERVAL:P3D
CALSCALE:GREGORIAN
BEGIN:VEVENT
DTSTART:20250101T141500Z
DTEND:20250101T163000Z
X-MICROSOFT-CDO-ALLDAYEVENT:FALSE
SUMMARY:24th Annual Atlantic Plunge to Benefit Caring Unlimited
DESCRIPTION:The Annual Atlantic Plunge to benefit Caring Unlimited\, York County's Domestic Violence Resource Center ensures survivors can access free\, critical services 24 hours a day\, 365 days a year.\n\n\n\n"Plungers" can form a team\, challenge their friends\, and raise money with our easy\, personalized online peer to peer fundraising platform to make the biggest splash to support Caring Unlimited!\n\n\n\nVisit: www.caring-unlimited.org for more information and to register today!
X-ALT-DESC;FMTTYPE=text/html:The Annual Atlantic Plunge to benefit Caring Unlimited\, York County&#39\;s Domestic Violence Resource Center ensures survivors can access free\, critical services 24 hours a day\, 365 days a year.<br />\n<br />\n&quot\;Plungers&quot\; can form a team\, challenge their friends\, and raise money with our easy\, personalized online peer to peer fundraising platform to make the biggest splash to support Caring Unlimited!<br />\n<br />\nVisit: www.caring-unlimited.org for more information and to register today!
LOCATION:Gooch's Beach\, Kennebunk
UID:e.1923.31375
SEQUENCE:3
DTSTAMP:20260421T003634Z
URL:https://chamber.gokennebunks.com/events/details/24th-annual-atlantic-plunge-to-benefit-caring-unlimited-31375
END:VEVENT

END:VCALENDAR
