BEGIN:VCALENDAR
VERSION:2.0
PRODID:-//ChamberMaster//Event Calendar 2.0//EN
METHOD:PUBLISH
X-PUBLISHED-TTL:P3D
REFRESH-INTERVAL:P3D
CALSCALE:GREGORIAN
BEGIN:VEVENT
DTSTART:20190712T220000Z
DTEND:20190713T000000Z
X-MICROSOFT-CDO-ALLDAYEVENT:FALSE
SUMMARY:22nd Edition Road Race at KFL
DESCRIPTION:The snow may still be here\, but the Kennebunk Free Library is already looking forward to July 12 when we will host the 22nd Edition of our annual Road Race. The race has grown bigger and better every year\, with nearly 500 participants running or walking to support the library last year. Register online at www.kennebunklibrary.org or drop by the library to pick up a paper application. The first 200 to register will receive one of our fabulous goodie bags! \n\n \n\nThis year\, in response to participant feedback\, we are making a change to the way we award prizes. The Road Race draws a broad range of ages - last year\, our youngest racer was 4\; our oldest was 84. To ensure that everyone has a chance to be recognized for their efforts this year\, prizes will be awarded to the top male and female finishers in each of 6 age categories: 14 & under\, 15-29\, 30-39\, 40-49\, 50-59\, and 60 & over. We hope to see people of all ages lined up on July 12 to compete against their peers!
X-ALT-DESC;FMTTYPE=text/html:<span style="color:black"><span style="font-family:arial\,sans-serif"><span style="font-size:10.0pt">The snow may still be here\, but the Kennebunk Free Library is already looking forward to July 12 when we will host the 22<sup>nd</sup>&nbsp\;Edition of our annual Road Race. The race has grown bigger and better every year\, with nearly 500 participants running or walking to support the library last year.&nbsp\;</span></span></span><span style="color:black"><span style="font-family:arial\,sans-serif"><span style="font-size:10.0pt"><a href="http://Register">Register</a></span></span></span><span style="color:black"><span style="font-family:arial\,sans-serif"><span style="font-size:10.0pt"> online at www.kennebunklibrary.org&nbsp\;or drop by the library to pick up a paper application. The first 200 to register will receive one of our fabulous goodie bags!&nbsp\;</span></span></span><br />\n&nbsp\;<br />\n<span style="color:black"><span style="font-family:arial\,sans-serif"><span style="font-size:10.0pt">This year\, in response to participant feedback\, we are making a change to the way we award prizes. The Road Race draws a broad range of ages - last year\, our youngest racer was 4\; our oldest was 84. To ensure that everyone has a chance to be recognized for their efforts this year\, prizes will be awarded to the top male and female finishers in each of 6 age categories: 14 &amp\; under\, 15-29\, 30-39\, 40-49\, 50-59\, and 60 &amp\; over. We hope to see people of all ages lined up on July 12 to compete against their peers!&nbsp\;</span></span></span>
LOCATION:Kennebunk Free Library 112 Main St. Kennebunk\, ME
UID:e.1923.13119
SEQUENCE:3
DTSTAMP:20260424T183233Z
URL:https://chamber.gokennebunks.com/events/details/22nd-edition-road-race-at-kfl-13119
END:VEVENT

END:VCALENDAR
