BEGIN:VCALENDAR
VERSION:2.0
PRODID:-//ChamberMaster//Event Calendar 2.0//EN
METHOD:PUBLISH
X-PUBLISHED-TTL:P3D
REFRESH-INTERVAL:P3D
CALSCALE:GREGORIAN
BEGIN:VEVENT
DTSTART:20180713T220000Z
DTEND:20180714T003000Z
X-MICROSOFT-CDO-ALLDAYEVENT:FALSE
SUMMARY:21st Edition Road Race to benefit Kennebunk Free Library
DESCRIPTION:Our 21st Edition 5k Road Race to benefit Kennebunk Free Library starts at 6:00 PM. Register online at KennebunkLibrary.org. First 200 registrants get free t-shirt and our fabulous goodie bag - and a discounted registration fee! With registration\, have a free post-run meal (small fee for non-registrants)\, wine and beer garden\, live music by the Kennebunk River Band\, Raffles\, prizes and MUCH MORE!
X-ALT-DESC;FMTTYPE=text/html:Our 21st Edition 5k Road Race to benefit Kennebunk Free Library starts at 6:00 PM. Register online at KennebunkLibrary.org. First 200 registrants get free t-shirt and our fabulous goodie bag - and a discounted registration fee! With registration\, have a free post-run meal (small fee for non-registrants)\, wine and beer garden\, live music by the Kennebunk River Band\, Raffles\, prizes and MUCH MORE!
LOCATION:Kennebunk Free Library 112 Main St Kennebunk\, ME 04043
UID:e.1923.9765
SEQUENCE:3
DTSTAMP:20260425T143512Z
URL:https://chamber.gokennebunks.com/events/details/21st-edition-road-race-to-benefit-kennebunk-free-library-9765
END:VEVENT

END:VCALENDAR
