BEGIN:VCALENDAR
VERSION:2.0
PRODID:-//ChamberMaster//Event Calendar 2.0//EN
METHOD:PUBLISH
X-PUBLISHED-TTL:P3D
REFRESH-INTERVAL:P3D
CALSCALE:GREGORIAN
BEGIN:VEVENT
DTSTART:20240207T140000Z
DTEND:20240207T160000Z
X-MICROSOFT-CDO-ALLDAYEVENT:FALSE
SUMMARY:207 Day! - Have a FREE cup of coffee on us!
DESCRIPTION:Join us for 207 Day! On February 7th\, reflecting our distinctive area code\, let's celebrate everything about Maine! 207 Prime Properties and Mornings and Paris are treating you to a FREE coffee! Come by Mornings in Paris in Kennebunk\, ME between 9am-11am on Wednesday\, 2/7.
X-ALT-DESC;FMTTYPE=text/html:<span style="color:rgb(5\, 5\, 5)\; font-family:segoe ui historic\,segoe ui\,helvetica\,arial\,sans-serif\; font-size:15px">Join us for 207 Day! On February 7th\, reflecting our distinctive area code\, let&rsquo\;s celebrate everything about Maine! 207 Prime Properties and Mornings and Paris are treating you to a FREE coffee! Come by Mornings in Paris in Kennebunk\, ME between 9am-11am on Wednesday\, 2/7.</span>
LOCATION:Mornings In Paris 21 Western Ave\, Kennebunk\, ME 04043
UID:e.1923.24388
SEQUENCE:3
DTSTAMP:20260421T204951Z
URL:https://chamber.gokennebunks.com/events/details/207-day-have-a-free-cup-of-coffee-on-us-24388
END:VEVENT

END:VCALENDAR
