BEGIN:VCALENDAR
VERSION:2.0
PRODID:-//ChamberMaster//Event Calendar 2.0//EN
METHOD:PUBLISH
X-PUBLISHED-TTL:P3D
REFRESH-INTERVAL:P3D
CALSCALE:GREGORIAN
BEGIN:VEVENT
DTSTART:20241211T220000Z
DTEND:20241212T000000Z
X-MICROSOFT-CDO-ALLDAYEVENT:FALSE
SUMMARY:2024 Business After Hours: Kennebunk Savings Apres Ski
DESCRIPTION:Get ready to hit the slopes   no skis required! Join Kennebunk Savings for an unforgettable Apres Ski soiree\, where the alpine vibes are high and the atmosphere is even higher. Sip on refreshing Aperol spritzes\, indulge on decadent fondue\, and savor gourmet bites surrounded by mountain inspired d cor. Amidst the chaos of the holidays\, this will be the perfect evening escape!\n\n\n\n$5 for Chamber Members\n\n$10 for Non-Chamber Members\n\n\n\nEnjoy a cozy setting with delicious food\, fun beverages\, live music and beautiful decor. It will be an unforgettable night. We hope to see you there!\n\n\n\nTo learn more about Kennebunk Savings\, click here.
X-ALT-DESC;FMTTYPE=text/html:<div class="x11i5rnm xat24cr x1mh8g0r x1vvkbs xdj266r" style="margin: 0px\; overflow-wrap: break-word\; font-family: &quot\;Segoe UI Historic&quot\;\, &quot\;Segoe UI&quot\;\, Helvetica\, Arial\, sans-serif\; color: rgb(5\, 5\, 5)\; font-size: 15px\;">Get ready to hit the slopes &ndash\; no skis required! Join Kennebunk Savings for an unforgettable Apres Ski soiree\, where the alpine vibes are high and the atmosphere is even higher. Sip on refreshing Aperol spritzes\, indulge on decadent fondue\, and savor gourmet bites surrounded by mountain inspired d&eacute\;cor. Amidst the chaos of the holidays\, this will be the perfect evening escape!<br />\n<br />\n$5 for Chamber Members<br />\n$10 for Non-Chamber Members<br />\n<br />\nEnjoy a cozy setting with delicious food\, fun beverages\, live music and beautiful decor.&nbsp\;It will be an unforgettable night. We hope to see you there!<br />\n<br />\nTo learn more about Kennebunk Savings\, click <a href="https://www.kennebunksavings.com/">here</a>.&nbsp\;</div>\n
LOCATION:Kennebunk Savings 7 Alewive Park Rd\, Kennebunk
UID:e.1923.31157
SEQUENCE:3
DTSTAMP:20260421T020906Z
URL:https://chamber.gokennebunks.com/events/details/2024-business-after-hours-kennebunk-savings-apres-ski-31157
END:VEVENT

END:VCALENDAR
