BEGIN:VCALENDAR
VERSION:2.0
PRODID:-//ChamberMaster//Event Calendar 2.0//EN
METHOD:PUBLISH
X-PUBLISHED-TTL:P3D
REFRESH-INTERVAL:P3D
CALSCALE:GREGORIAN
BEGIN:VEVENT
DTSTART:20240919T213000Z
DTEND:20240919T233000Z
X-MICROSOFT-CDO-ALLDAYEVENT:FALSE
SUMMARY:2024 Annual Dinner / DRIVE to be the Best Awards Night
DESCRIPTION:The Kennebunk-Kennebunkport-Arundel Chamber of Commerce invites you to our Annual Meeting/Dinner\, DRIVE to be the Best awards night on Thursday\, Sept. 19 from 5:30-7:30pm!\n\n\n\nEach year we are excited to celebrate all of the local businesses in our community that are making a difference. We'll be awarding businesses with 10 prestigious awards as well as our DRIVE to be the Best certificates in 51 categories. We hope you can join in on the magic!\n\n\n\nThis year's theme is "High tides and good vibes.." -- embracing our wonderful coastal community! \n\n\n\nThis event will be held at Vinegar Hill Music Theatre (53 Old Post Road\, Arundel) on Thursday\, Sept. 19 from 5:30-7:30 p.m. \n\n\n\nA huge THANK YOU to all of our incredible DRIVE sponsors for making this night possible!\n\n\n\nIMPORTANT NOTES: \n\n	Tickets are $35 and can be purchased on this page. Tickets include two (2) drinks\, food\, the award ceremony and a fabulous evening!\n	This event also serves as our annual meeting.  \n\nFor more details on DRIVE and our past winners\, click here.
X-ALT-DESC;FMTTYPE=text/html:<br />\n<strong style="font-size: 18px\;">The Kennebunk-Kennebunkport-Arundel Chamber of Commerce invites you to our Annual Meeting/Dinner\, DRIVE to be the Best awards night on Thursday\, Sept. 19 from 5:30-7:30pm!</strong><br />\n<br />\n<span style="font-size:16px\;">Each year we are excited to celebrate all of the local businesses in our community that are making a difference. We&#39\;ll be awarding businesses with 10 prestigious awards as well as our DRIVE to be the Best certificates in 51 categories. We hope you can join in on the magic!<br />\n<br />\nThis year&#39\;s theme is &quot\;<em>High tides and good vibes..</em>&quot\; -- embracing our wonderful coastal community!&nbsp\;<br />\n<br />\nThis event will be held at Vinegar Hill Music Theatre (53 Old Post Road\, Arundel) on Thursday\, Sept. 19 from 5:30-7:30 p.m.&nbsp\;<br />\n<br />\nA huge THANK YOU to all of our incredible DRIVE sponsors for making this night possible!<br />\n<br />\n<u><strong>IMPORTANT NOTES:</strong></u></span><strong><span style="font-size:16px\;">&#8203\;</span></strong>\n<ul>\n	<li><strong><span style="font-size:16px\;">Tickets are $35 and can be purchased on this page. Tickets include two (2) drinks\, food\, the award ceremony and a fabulous evening!</span></strong></li>\n	<li><em><strong><span style="font-size:16px\;">This event also serves as our annual meeting.&nbsp\; </span></strong></em></li>\n</ul>\n<span style="font-size:16px\;">For more details on DRIVE and our past winners\, click <a href="https://gokennebunks.com/drive/">here</a>.&nbsp\;</span>
LOCATION:Vinegar Hill Music Theatre 53 Old Post Road\, Arundel
UID:e.1923.25437
SEQUENCE:3
DTSTAMP:20260421T100114Z
URL:https://chamber.gokennebunks.com/events/details/2024-annual-dinner-drive-to-be-the-best-awards-night-25437
END:VEVENT

END:VCALENDAR
