BEGIN:VCALENDAR
VERSION:2.0
PRODID:-//ChamberMaster//Event Calendar 2.0//EN
METHOD:PUBLISH
X-PUBLISHED-TTL:P3D
REFRESH-INTERVAL:P3D
CALSCALE:GREGORIAN
BEGIN:VEVENT
DTSTART:20231018T120000Z
DTEND:20231107T010000Z
X-MICROSOFT-CDO-ALLDAYEVENT:FALSE
SUMMARY:2023 Chamber Holiday Auction
DESCRIPTION:Bid early\, bid often! The 2023 Chamber Holiday Auction is now open!\n\n\n\nThanks to our generous members and the greater community\, our auction features some classics\, some new favorites and some one-of-a-kind experiences.\n\n\n\nNow let the bidding begin! Auction runs until November 6th and new items are being added everyday.\n\n\n\nwww.biddingforgood.com/gokennebunks\n\n\n\nSpecial Notes: Winning bidders must pick up their items at the Chamber (16 Water St.\, Kennebunk) on the following days: 11/13 - 11/17. Hours for pick up are 10 a.m.- 3 p.m. If these dates are not amenable\, please call the Chamber to schedule a pick up time (207) 967-0857. All items must be picked up or arrangements made by Dec. 1.\n\n\n\nNeed your item shipped? Please contact the Chamber on or after 11/13 and we will calculate shipping costs for you.
X-ALT-DESC;FMTTYPE=text/html:<div class="xdj266r x11i5rnm xat24cr x1mh8g0r x1vvkbs" style="margin: 0px\; overflow-wrap: break-word\; font-family: &quot\;Segoe UI Historic&quot\;\, &quot\;Segoe UI&quot\;\, Helvetica\, Arial\, sans-serif\; color: rgb(5\, 5\, 5)\; font-size: 15px\;"><span style="font-size:14px\;"><span style="font-family:arial\;">Bid early\, bid often! The 2023 Chamber Holiday Auction is now open!</span><br />\n<br />\n<span style="font-family:arial\;">Thanks to our generous members and the greater community\, our auction features some classics\, some new favorites and some one-of-a-kind experiences.</span><br />\n<br />\n<span style="font-family:arial\;">Now let the bidding begin! Auction runs until November 6th and new items are being added everyday.</span></span></div>\n\n<div class="x11i5rnm xat24cr x1mh8g0r x1vvkbs xtlvy1s" style="margin: 0.5em 0px 0px\; overflow-wrap: break-word\; font-family: &quot\;Segoe UI Historic&quot\;\, &quot\;Segoe UI&quot\;\, Helvetica\, Arial\, sans-serif\; color: rgb(5\, 5\, 5)\; font-size: 15px\;"><br />\n<span style="font-size:14px\;"><span style="font-family:arial\;"><a class="x1i10hfl xjbqb8w x6umtig x1b1mbwd xaqea5y xav7gou x9f619 x1ypdohk xt0psk2 xe8uvvx xdj266r x11i5rnm xat24cr x1mh8g0r xexx8yu x4uap5 x18d9i69 xkhd6sd x16tdsg8 x1hl2dhg xggy1nq x1a2a7pz xt0b8zv x1fey0fg" href="http://www.biddingforgood.com/gokennebunks" rel="nofollow noreferrer" role="link" style="color: var(--blue-link)\; cursor: pointer\; text-decoration-line: none\; outline: none\; list-style: none\; margin: 0px\; text-align: inherit\; padding: 0px\; box-sizing: border-box\; background-color: transparent\; border-width: 0px\; border-style: initial\; border-color: initial\; -webkit-tap-highlight-color: transparent\; touch-action: manipulation\; display: inline\; font-family: inherit\;" tabindex="0" target="_blank">www.biddingforgood.com/gokennebunks</a></span><br />\n<br />\n<span style="font-family:arial\;">Special Notes: Winning bidders must pick up their items at the Chamber (16 Water St.\, Kennebunk) on the following days: 11/13 - 11/17. Hours for pick up are 10 a.m.- 3 p.m. If these dates are not amenable\, please call the Chamber to schedule a pick up time (207) 967-0857. All items must be picked up or arrangements made by Dec. 1.</span><br />\n<br />\n<span style="font-family:arial\;">Need your item shipped? Please contact the Chamber on or after 11/13 and we will calculate shipping costs for you.</span></span></div>\n
LOCATION:Online Items can be picked up at 16 Water St.\, Kennebunk
UID:e.1923.23070
SEQUENCE:3
DTSTAMP:20260422T004929Z
URL:https://chamber.gokennebunks.com/events/details/2023-chamber-holiday-auction-23070
END:VEVENT

END:VCALENDAR
