BEGIN:VCALENDAR
VERSION:2.0
PRODID:-//ChamberMaster//Event Calendar 2.0//EN
METHOD:PUBLISH
X-PUBLISHED-TTL:P3D
REFRESH-INTERVAL:P3D
CALSCALE:GREGORIAN
BEGIN:VEVENT
DTSTART:20231213T220000Z
DTEND:20231214T000000Z
X-MICROSOFT-CDO-ALLDAYEVENT:FALSE
SUMMARY:2023 Business After Hours: Kennebunk Savings
DESCRIPTION:Join us on Wednesday\, December 13th for a special holiday themed Business After Hours at Kennebunk Savings Bank!\n\n\n\n$5 for Chamber Members\n\n$10 for Non-Chamber Members\n\n\n\nEnjoy a cozy setting with delicious food and tasty beverages from Above and Beyond Catering. It will be an unforgettable night. We hope to see you there!\n\n\n\nTo learn more about Above and Beyond Catering\, click here. \n\nTo learn more about Kennebunk Savings\, click here.
X-ALT-DESC;FMTTYPE=text/html:<div class="x11i5rnm xat24cr x1mh8g0r x1vvkbs xdj266r" style="margin: 0px\; overflow-wrap: break-word\; font-family: &quot\;Segoe UI Historic&quot\;\, &quot\;Segoe UI&quot\;\, Helvetica\, Arial\, sans-serif\; color: rgb(5\, 5\, 5)\; font-size: 15px\;"><strong><span style="font-size:18px\;">Join us on Wednesday\, December 13th for a special holiday themed Business After Hours at Kennebunk Savings Bank!</span></strong><br />\n<br />\n$5 for Chamber Members<br />\n$10 for Non-Chamber Members<br />\n<br />\nEnjoy a cozy setting with delicious food and tasty beverages from Above and Beyond Catering.&nbsp\;It will be an unforgettable night. We hope to see you there!<br />\n<br />\nTo learn more about Above and Beyond Catering\, click <a href="https://www.aboveandbeyondcatering.net/">here</a>.&nbsp\;<br />\nTo learn more about Kennebunk Savings\, click <a href="https://www.kennebunksavings.com/">here</a>.&nbsp\;</div>\n
LOCATION:Kennebunk Savings 7 Alewive Park Rd\, Kennebunk
UID:e.1923.23292
SEQUENCE:3
DTSTAMP:20260421T221257Z
URL:https://chamber.gokennebunks.com/events/details/2023-business-after-hours-kennebunk-savings-23292
END:VEVENT

END:VCALENDAR
