BEGIN:VCALENDAR
VERSION:2.0
PRODID:-//ChamberMaster//Event Calendar 2.0//EN
METHOD:PUBLISH
X-PUBLISHED-TTL:P3D
REFRESH-INTERVAL:P3D
CALSCALE:GREGORIAN
BEGIN:VEVENT
DTSTART:20200104T190000Z
DTEND:20200104T210000Z
X-MICROSOFT-CDO-ALLDAYEVENT:FALSE
SUMMARY:2020 Vision Board Workshop
DESCRIPTION:Begin the year by creating a clear eyed 20/20 vision of the year ahead! This workshop will be fun\, engaging and powerful as you tune into your intentions of your best self. We will begin with a sweat + flow/restorative yoga class as well as a guided meditation. Then we will get down to the business of manifestation through vision boarding! No yoga or crafting experience needed... this workshop is for everyone! Cost is $30/person\, 20% off for members.
X-ALT-DESC;FMTTYPE=text/html:Begin the year by creating a clear eyed 20/20 vision of the year ahead! This workshop will be fun\, engaging and powerful as you tune into your intentions of your best self. We will begin with a sweat + flow/restorative yoga class as well as a guided meditation. Then we will get down to the business of manifestation through vision boarding! No yoga or crafting experience needed... this workshop is for everyone! Cost is $30/person\, 20% off for members.
LOCATION:The Daily Sweat 65 Portland RD Building A\, Unit D\, Kennebunk\, ME 04043
UID:e.1923.15576
SEQUENCE:3
DTSTAMP:20260424T112351Z
URL:https://chamber.gokennebunks.com/events/details/2020-vision-board-workshop-15576
END:VEVENT

END:VCALENDAR
