BEGIN:VCALENDAR
VERSION:2.0
PRODID:-//ChamberMaster//Event Calendar 2.0//EN
METHOD:PUBLISH
X-PUBLISHED-TTL:P3D
REFRESH-INTERVAL:P3D
CALSCALE:GREGORIAN
BEGIN:VEVENT
DTSTART:20190928T120000Z
DTEND:20190928T160000Z
X-MICROSOFT-CDO-ALLDAYEVENT:FALSE
SUMMARY:2019 Greater Portland Walk to End Alzheimer's
DESCRIPTION:Held annually in more than 600 communities nationwide\, the Alzheimer's Association Walk to End Alzheimer?s® is the world?s largest event to raise awareness and funds for Alzheimer?s care\, support and research. This inspiring event calls on participants of all ages and abilities to reclaim the future for millions!\n\nWhen you participate in Walk\, your fundraising dollars fuel our mission\, and your participation in the event helps to change the level of Alzheimer?s awareness in your community. The Alzheimer?s Association provides free\, easy-to-use tools and staff support to help participants reach their fundraising goal. While there is no fee to register\, we encourage participants to fundraise in order to contribute to the cause and raise awareness.\n\nTogether\, we can end Alzheimer?s!\n\nRegistration at 8 am \nCeremony at 9:30 am \nWalk at 10 am\n\nContact: dwyman@alz.org | 207.772.0115
X-ALT-DESC;FMTTYPE=text/html:Held annually in more than 600 communities nationwide\, the Alzheimer's Association Walk to End Alzheimer?s® is the world?s largest event to raise awareness and funds for Alzheimer?s care\, support and research. This inspiring event calls on participants of all ages and abilities to reclaim the future for millions!\n\nWhen you participate in Walk\, your fundraising dollars fuel our mission\, and your participation in the event helps to change the level of Alzheimer?s awareness in your community. The Alzheimer?s Association provides free\, easy-to-use tools and staff support to help participants reach their fundraising goal. While there is no fee to register\, we encourage participants to fundraise in order to contribute to the cause and raise awareness.\n\nTogether\, we can end Alzheimer?s!\n\nRegistration at 8 am \nCeremony at 9:30 am \nWalk at 10 am\n\nContact: dwyman@alz.org | 207.772.0115
LOCATION:Payson Park 755 Baxter Boulevard Portland\, ME 04101
UID:e.1923.13462
SEQUENCE:3
DTSTAMP:20260424T154157Z
URL:https://chamber.gokennebunks.com/events/details/2019-greater-portland-walk-to-end-alzheimer-s-13462
END:VEVENT

END:VCALENDAR
