BEGIN:VCALENDAR
VERSION:2.0
PRODID:-//ChamberMaster//Event Calendar 2.0//EN
METHOD:PUBLISH
X-PUBLISHED-TTL:P3D
REFRESH-INTERVAL:P3D
CALSCALE:GREGORIAN
BEGIN:VEVENT
DTSTART:20170908T223000Z
DTEND:20170909T000000Z
X-MICROSOFT-CDO-ALLDAYEVENT:FALSE
SUMMARY:2017 Maine Celebration of Reading
DESCRIPTION:Join the Barbara Bush Foundation for Family Literacy for the 2017 Maine Celebration of Reading. This gathering of bestselling authors\, community leaders\, Bush family members\, and literacy advocates will highlight the life-changing power of literacy and raise funds to support the programs of the Barbara Bush Foundation. This year's outstanding author lineup includes Daniel Silva\, Anita Shreve\, Chris Gardner\, and Travis Mills.
X-ALT-DESC;FMTTYPE=text/html:Join the Barbara Bush Foundation for Family Literacy for the 2017 Maine Celebration of Reading. This gathering of bestselling authors\, community leaders\, Bush family members\, and literacy advocates will highlight the life-changing power of literacy and raise funds to support the programs of the Barbara Bush Foundation. This year&#39\;s outstanding author lineup includes Daniel Silva\, Anita Shreve\, Chris Gardner\, and Travis Mills.
LOCATION:Vinegar Hill Music Theatre 53 Old Post Road Arundel\, Maine 04046
UID:e.1923.5900
SEQUENCE:3
DTSTAMP:20260426T023511Z
URL:https://chamber.gokennebunks.com/events/details/2017-maine-celebration-of-reading-5900
END:VEVENT

END:VCALENDAR
