BEGIN:VCALENDAR
VERSION:2.0
PRODID:-//ChamberMaster//Event Calendar 2.0//EN
METHOD:PUBLISH
X-PUBLISHED-TTL:P3D
REFRESH-INTERVAL:P3D
CALSCALE:GREGORIAN
BEGIN:VEVENT
DTSTART:20180725T220000Z
DTEND:20180725T230000Z
X-MICROSOFT-CDO-ALLDAYEVENT:FALSE
SUMMARY:1968 Discussion Night
DESCRIPTION:Join in a guided discussion with Brick Store Museum Director Cynthia Walker on your experiences in and around the year 1968\, with an after-hours look at the current exhibit\, "1968."
X-ALT-DESC;FMTTYPE=text/html:<span style="color:rgb(29\, 16\, 44)\; font-family:museo sans w01\,helvetica neue\,helvetica\,helvetica\,arial\,sans-serif\; font-size:14px">Join in a guided discussion with Brick Store Museum Director Cynthia Walker on your experiences in and around the year 1968\, with an after-hours look at the current exhibit\, &ldquo\;1968.&rdquo\;</span>
LOCATION:Brick Store Museum 117 Main Street Kennebunk\, Maine 04043
UID:e.1923.9958
SEQUENCE:3
DTSTAMP:20260425T143125Z
URL:https://chamber.gokennebunks.com/events/details/1968-discussion-night-9958
END:VEVENT

END:VCALENDAR
