BEGIN:VCALENDAR
VERSION:2.0
PRODID:-//ChamberMaster//Event Calendar 2.0//EN
METHOD:PUBLISH
X-PUBLISHED-TTL:P3D
REFRESH-INTERVAL:P3D
CALSCALE:GREGORIAN
BEGIN:VEVENT
DTSTART:20180609T160000Z
DTEND:20180609T200000Z
X-MICROSOFT-CDO-ALLDAYEVENT:FALSE
SUMMARY:1860s Day at the Museum
DESCRIPTION:Get into 1860s history before the Vintage Base Ball game on Sunday! This Saturday at the Museum will feature the 3rd Maine Infantry reenactors showing visitors all about camp life\, customs\, and clothing in the 1860s. Plus\, hear more about 1860s baseball rules so you'll be all caught up for Sunday's game!\n\nJoin us at the Brick Store Museum from 12:00 PM - 4:00 PM\n\nThe Brick Store Museum is located at 117 Main Street\, Kennebunk
X-ALT-DESC;FMTTYPE=text/html:<p>Get into 1860s history before the Vintage Base Ball game on Sunday! This Saturday at the Museum will feature the 3rd Maine Infantry reenactors showing visitors all about camp life\, customs\, and clothing in the 1860s. Plus\, hear more about 1860s baseball rules so you&rsquo\;ll be all caught up for Sunday&rsquo\;s game!</p>\n\n<p>Join us at the Brick Store Museum from&nbsp\;12:00 PM - 4:00 PM</p>\n\n<p>The Brick Store Museum is located at 117 Main Street\, Kennebunk</p>\n
LOCATION:Brick Store Museum 117 Main Street Kennebunk\, Maine
UID:e.1923.9896
SEQUENCE:3
DTSTAMP:20260425T143318Z
URL:https://chamber.gokennebunks.com/events/details/1860s-day-at-the-museum-9896
END:VEVENT

END:VCALENDAR
