BEGIN:VCALENDAR
VERSION:2.0
PRODID:-//ChamberMaster//Event Calendar 2.0//EN
METHOD:PUBLISH
X-PUBLISHED-TTL:P3D
REFRESH-INTERVAL:P3D
CALSCALE:GREGORIAN
BEGIN:VEVENT
DTSTART;VALUE=DATE:20240214
DTEND;VALUE=DATE:20240229
TRANSP:TRANSPARENT
X-MICROSOFT-CDO-ALLDAYEVENT:TRUE
SUMMARY:173 Mercantile: Pretty In Pink
DESCRIPTION:FEB 14-FEB 28\n\n\n\n\n\n\n\n\n\n\n\nPretty in Pink\n\nWear pink while you shop to get 10% off your entire purchase.\n\nBonus-extra 5% off for dropping a John Hughes movie quote at checkout
X-ALT-DESC;FMTTYPE=text/html:<div>\n<div>\n<div>\n<div>\n<div>\n<p style="text-align:center"><strong>FEB 14-FEB 28</strong></p>\n</div>\n</div>\n</div>\n</div>\n</div>\n\n<div>\n<div>\n<div>\n<div>\n<div>\n<p style="text-align:center"><strong>Pretty in Pink</strong></p>\n\n<p style="text-align:center">Wear pink while you shop to get 10% off your entire purchase.</p>\n\n<p style="text-align:center">Bonus-extra 5% off for dropping a John Hughes movie quote at checkout</p>\n</div>\n</div>\n</div>\n</div>\n</div>\n
LOCATION:173 Port Road-Lower Village- Kennebunk
UID:e.1923.24162
SEQUENCE:3
DTSTAMP:20260421T192714Z
URL:https://chamber.gokennebunks.com/events/details/173-mercantile-pretty-in-pink-24162
END:VEVENT

END:VCALENDAR
