BEGIN:VCALENDAR
VERSION:2.0
PRODID:-//ChamberMaster//Event Calendar 2.0//EN
METHOD:PUBLISH
X-PUBLISHED-TTL:P3D
REFRESH-INTERVAL:P3D
CALSCALE:GREGORIAN
BEGIN:VEVENT
DTSTART;VALUE=DATE:20231203
DTEND;VALUE=DATE:20231208
TRANSP:TRANSPARENT
X-MICROSOFT-CDO-ALLDAYEVENT:TRUE
SUMMARY:173 Mercantile: Prelude to Prelude
DESCRIPTION:Complimentary beverages & sweets\n\nIn-store specials\n\nGift with purchase over $75\n\nOpen daily 10am-6pm
X-ALT-DESC;FMTTYPE=text/html:<p>Complimentary beverages &amp\; sweets</p>\n\n<p>In-store specials</p>\n\n<p>Gift with purchase over $75</p>\n\n<p>Open daily 10am-6pm</p>\n
LOCATION:173 Mercantile 173 Port Road Kennebunk\, Maine
UID:e.1923.23101
SEQUENCE:3
DTSTAMP:20260421T221328Z
URL:https://chamber.gokennebunks.com/events/details/173-mercantile-prelude-to-prelude-23101
END:VEVENT

END:VCALENDAR
