BEGIN:VCALENDAR
VERSION:2.0
PRODID:-//ChamberMaster//Event Calendar 2.0//EN
METHOD:PUBLISH
X-PUBLISHED-TTL:P3D
REFRESH-INTERVAL:P3D
CALSCALE:GREGORIAN
BEGIN:VEVENT
DTSTART;VALUE=DATE:20240229
DTEND;VALUE=DATE:20240301
TRANSP:TRANSPARENT
X-MICROSOFT-CDO-ALLDAYEVENT:TRUE
SUMMARY:173 Mercantile: Leaping for Leap Year
DESCRIPTION:FEB 29\n\n\n\n\n\n\n\n\n\n\n\n\n\nLeaping for Leap Year\n\nMake the most of the extra day!\n\nShop on Thursday\, February 29th\, and save 29% on all purchases over $29.\n\n(No other discounts apply)
X-ALT-DESC;FMTTYPE=text/html:<div>\n<div>\n<div>\n<div>\n<div>\n<div>\n<div>\n<p style="text-align:center"><strong>FEB 29</strong></p>\n</div>\n</div>\n</div>\n</div>\n</div>\n</div>\n</div>\n\n<div>\n<div>\n<div>\n<div>\n<div>\n<p style="text-align:center"><strong>Leaping for Leap Year</strong></p>\n\n<p style="text-align:center">Make the most of the extra day!</p>\n\n<p style="text-align:center">Shop on Thursday\, February 29th\, and save 29% on all purchases over $29.</p>\n\n<p style="text-align:center">(No other discounts apply)</p>\n</div>\n</div>\n</div>\n</div>\n</div>\n
LOCATION:173 Port Road- Lower Village- Kennebunk
UID:e.1923.24163
SEQUENCE:3
DTSTAMP:20260421T204736Z
URL:https://chamber.gokennebunks.com/events/details/173-mercantile-leaping-for-leap-year-24163
END:VEVENT

END:VCALENDAR
