BEGIN:VCALENDAR
VERSION:2.0
PRODID:-//ChamberMaster//Event Calendar 2.0//EN
METHOD:PUBLISH
X-PUBLISHED-TTL:P3D
REFRESH-INTERVAL:P3D
CALSCALE:GREGORIAN
BEGIN:VEVENT
DTSTART:20191026T160000Z
DTEND:20191026T190000Z
X-MICROSOFT-CDO-ALLDAYEVENT:FALSE
SUMMARY:16th Annual All Souls' Walk
DESCRIPTION:Tour Kennebunk's Hope Cemetery with a guide to "meet" ghosts of Kennebunk's past! Begin at the Museum for a narrated walk with costumed interpreters through Hope Cemetery to visit the graves and hear the fascinating and sometimes tragic tales of Kennebunk residents from the past three centuries. Not too spooky\, it's perfect for the whole family! \n\n\n\nContinuous tours begin at 12:00PM\, with the last tour departing at 3:00PM. Tickets are $10 per person\, or $30 for a family. No advance registration required except for large groups.
X-ALT-DESC;FMTTYPE=text/html:Tour Kennebunk&#39\;s Hope Cemetery with a guide to &quot\;meet&quot\; ghosts of Kennebunk&#39\;s past! Begin at the Museum for a narrated walk with costumed interpreters through Hope Cemetery to visit the graves and hear the fascinating and sometimes tragic tales of Kennebunk residents from the past three centuries. Not too spooky\, it&#39\;s perfect for the whole family!&nbsp\;<br />\n<br />\nContinuous tours begin at 12:00PM\, with the last tour departing at 3:00PM. Tickets are $10 per person\, or $30 for a family. No advance registration required except for large groups.&nbsp\;
LOCATION:Brick Store Museum 117 Main Street Kennebunk\, Maine 04043
UID:e.1923.15489
SEQUENCE:3
DTSTAMP:20260424T140749Z
URL:https://chamber.gokennebunks.com/events/details/16th-annual-all-souls-walk-15489
END:VEVENT

END:VCALENDAR
