BEGIN:VCALENDAR
VERSION:2.0
PRODID:-//ChamberMaster//Event Calendar 2.0//EN
METHOD:PUBLISH
X-PUBLISHED-TTL:P3D
REFRESH-INTERVAL:P3D
CALSCALE:GREGORIAN
BEGIN:VEVENT
DTSTART:20250531T230000Z
DTEND:20250601T010000Z
X-MICROSOFT-CDO-ALLDAYEVENT:FALSE
SUMMARY:102 Years of Broadway concert with Neil Berg
DESCRIPTION:Step into the spotlight with "102 Years of Broadway\," the highly anticipated sequel to last season's hit\, "101 Years of Broadway\," brought back by popular demand. Showtime is 7 p.m. Saturday\, May 31. Organized by the acclaimed Neil Berg\, this extraordinary musical revue celebrates over a century of Broadway's greatest hits with a cast of five Broadway stars. Enjoy iconic songs from legendary shows like Les Mis rables\, West Side Story\, and The Phantom of the Opera\, alongside the timeless music of Rodgers and Hammerstein\, Cole Porter\, George Gershwin\, Kander and Ebb\, and Andrew Lloyd Webber. Praised as "The very best Broadway concert ever!" and "A knockout from the very first song\," this show promises a vibrant mix of unforgettable melodies and spectacular performances. Immerse yourself in the magic of Broadway as Neil Berg's vision delivers a show described as "A Bruce Springsteen concert for the Broadway set." With brilliant choreography\, dazzling costumes\, and a cast that perfectly captures Broadway's rich history\, "102 Years of Broadway" offers an extraordinary night of musical brilliance. Whether you're a lifelong fan or new to the stage\, this revue provides a captivating journey through theater's enchanting world\, celebrating both classic and contemporary Broadway.
X-ALT-DESC;FMTTYPE=text/html:Step into the spotlight with &ldquo\;102 Years of Broadway\,&rdquo\; the highly anticipated sequel to last season&rsquo\;s hit\, &ldquo\;101 Years of Broadway\,&rdquo\; brought back by popular demand. Showtime is 7 p.m. Saturday\, May 31. Organized by the acclaimed Neil Berg\, this extraordinary musical revue celebrates over a century of Broadway&rsquo\;s greatest hits with a cast of five Broadway stars. Enjoy iconic songs from legendary shows like Les Mis&eacute\;rables\, West Side Story\, and The Phantom of the Opera\, alongside the timeless music of Rodgers and Hammerstein\, Cole Porter\, George Gershwin\, Kander and Ebb\, and Andrew Lloyd Webber. Praised as &ldquo\;The very best Broadway concert ever!&rdquo\; and &ldquo\;A knockout from the very first song\,&rdquo\; this show promises a vibrant mix of unforgettable melodies and spectacular performances. Immerse yourself in the magic of Broadway as Neil Berg&rsquo\;s vision delivers a show described as &ldquo\;A Bruce Springsteen concert for the Broadway set.&rdquo\; With brilliant choreography\, dazzling costumes\, and a cast that perfectly captures Broadway&rsquo\;s rich history\, &ldquo\;102 Years of Broadway&rdquo\; offers an extraordinary night of musical brilliance. Whether you&rsquo\;re a lifelong fan or new to the stage\, this revue provides a captivating journey through theater&rsquo\;s enchanting world\, celebrating both classic and contemporary Broadway.
LOCATION:Sanford Performing Arts Center\, 100 Alumni Drive\, Sanford
UID:e.1923.34893
SEQUENCE:3
DTSTAMP:20260421T050133Z
URL:https://chamber.gokennebunks.com/events/details/102-years-of-broadway-concert-with-neil-berg-34893
END:VEVENT

END:VCALENDAR
