BEGIN:VCALENDAR
VERSION:2.0
PRODID:-//ChamberMaster//Event Calendar 2.0//EN
METHOD:PUBLISH
X-PUBLISHED-TTL:P3D
REFRESH-INTERVAL:P3D
CALSCALE:GREGORIAN
BEGIN:VEVENT
DTSTART:20241201T180000Z
DTEND:20241201T200000Z
X-MICROSOFT-CDO-ALLDAYEVENT:FALSE
SUMMARY:1:00PM: Sleigh All Day: Holiday Drag Brunch at Via Sophia
DESCRIPTION:Make it rein and jingle your bells at Via Sophia by the Sea's Sleigh All Day: A Holiday Drag Brunch\, serving a performance as magical as the Christmas season. Prepare for a surprise present as you watch Queens Abby Cummings and friends give all the festive spirit during this holiday-themed drag brunch! Enjoy live music from Hot Radio Maine's DJ Haylstorm as she sets the mood for a holly jolly atmosphere.\n\nThe brunch menu will be available for purchase as you prepare for festive and feisty fun. The doors of Via Sophia will open at 9:30AM with the first show at 10:30-11:45AM. Following will be the same performance for a second show at 1:45-3:00PM with doors opening at 1:00PM. Prepare yourself for a 75-minute performance from our Queens serving absolute fabulousness.\n\n*Bring your ones and tip your Queens! Venmo links will also be available. Seating is general admission.
X-ALT-DESC;FMTTYPE=text/html:<p>Make it rein and jingle your bells at Via Sophia by the Sea&rsquo\;s&nbsp\;<em>Sleigh All Day: A Holiday Drag Brunch</em>\, serving a performance as magical as the Christmas season. Prepare for a surprise present as you watch&nbsp\;<em>Queens</em>&nbsp\;Abby Cummings and friends give all the festive spirit during this holiday-themed drag brunch! Enjoy live music from Hot Radio Maine&#39\;s DJ Haylstorm as she<strong>&nbsp\;</strong>sets the mood for a holly jolly atmosphere.</p>\n\n<p>The brunch menu will be available for purchase as you prepare for festive and feisty fun. The doors of Via Sophia will open at 9:30AM with the first show at 10:30-11:45AM. Following will be the same performance for a second show at 1:45-3:00PM with doors opening at 1:00PM. Prepare yourself for a 75-minute performance from our Queens serving absolute fabulousness.</p>\n\n<p>*Bring your ones and tip your Queens! Venmo links will also be available. Seating is general admission.</p>\n
LOCATION:Via Sophia by the Sea 27 Western Avenue Kennebunk\, Maine 04043
UID:e.1923.29771
SEQUENCE:3
DTSTAMP:20260421T032803Z
URL:https://chamber.gokennebunks.com/events/details/1-00pm-sleigh-all-day-holiday-drag-brunch-at-via-sophia-29771
END:VEVENT

END:VCALENDAR
